BEGIN:VCALENDAR
VERSION:2.0
PRODID:-//Ett kunskapsföretag med hjärtat i jorden - ECPv6.8.3//NONSGML v1.0//EN
CALSCALE:GREGORIAN
METHOD:PUBLISH
X-WR-CALNAME:Ett kunskapsföretag med hjärtat i jorden
X-ORIGINAL-URL:https://moasblomstergard.se
X-WR-CALDESC:Händelser för Ett kunskapsföretag med hjärtat i jorden
REFRESH-INTERVAL;VALUE=DURATION:PT1H
X-Robots-Tag:noindex
X-PUBLISHED-TTL:PT1H
BEGIN:VTIMEZONE
TZID:UTC
BEGIN:STANDARD
TZOFFSETFROM:+0000
TZOFFSETTO:+0000
TZNAME:UTC
DTSTART:20260101T000000
END:STANDARD
END:VTIMEZONE
BEGIN:VEVENT
DTSTART;TZID=UTC:20260430T000000
DTEND;TZID=UTC:20260430T235959
DTSTAMP:20260424T094358
CREATED:20260223T121909Z
LAST-MODIFIED:20260223T122429Z
UID:411-1777507200-1777593599@moasblomstergard.se
SUMMARY:Biokol Valborg
DESCRIPTION:Välkomna på Moas Blomstergård och lär dig mer om biokol! Denna Valborg vill vi passa på att visa biokolets fantastiska egenskaper\, både i praktik och teori. Ett event i biokolets tecken – ta med det ni vill dricka och grilla\, så bjuder vi på enklare tilltugg. \nFör mer info ring Malin Bergenheim på  0739-574191. 
URL:https://moasblomstergard.se/event/biokol-valborg/
LOCATION:Moas Blomstergård\, TOLLEBY TJÄRNVÄG 93\, Rönnäng\, Västra Götalands län\, 47197\, Sverige
ORGANIZER;CN="Moas Blomsterg%C3%A5rd":MAILTO:info@moasblomstergard.se
END:VEVENT
BEGIN:VEVENT
DTSTART;TZID=UTC:20260514T110000
DTEND;TZID=UTC:20260514T140000
DTSTAMP:20260424T094358
CREATED:20260223T123135Z
LAST-MODIFIED:20260223T123135Z
UID:413-1778756400-1778767200@moasblomstergard.se
SUMMARY:Guidad vandring i Tjörns utmarker med fika
DESCRIPTION:Välkommen\, sköna maj! Vi startar vandringen hemma på gården\, Tolleby Tjärnväg 93\, 471 97 Rönnäng\, där ni kan parkera. Sedan ger vi oss ut över skogsleder och kuperad terräng i Tjörns ”utmarker”. Vi tar mede fika som vi avnjutar i det fria. \nAnmälan senast 10/5 hos Malin Bergenheim\, tel 0739-574191. Denna aktivitet kräver minst sex deltagare.  \nKläder efter väder och rejäla vandringsskor. \n 
URL:https://moasblomstergard.se/event/guidad-vandring-i-tjorns-utmarker-med-fika/
LOCATION:Moas Blomstergård\, TOLLEBY TJÄRNVÄG 93\, Rönnäng\, Västra Götalands län\, 47197\, Sverige
ORGANIZER;CN="Moas Blomsterg%C3%A5rd":MAILTO:info@moasblomstergard.se
END:VEVENT
BEGIN:VEVENT
DTSTART;TZID=UTC:20260606T120000
DTEND;TZID=UTC:20260606T130000
DTSTAMP:20260424T094358
CREATED:20240506T091837Z
LAST-MODIFIED:20260223T123447Z
UID:293-1780747200-1780750800@moasblomstergard.se
SUMMARY:Sillens dag Klädesholmen
DESCRIPTION:Kom med på en Guidad vandring på Klädesholmen! Nationaldagen firas här som ”Sillens dag” och hela ön gå i sillens tecken.\n \nVi tar oss in mellan de vackra välbevarade gamla husen och magasinen som minner om den tid då ” sillen gick till”. Promenaden kryddas med berättelser om bl.a. ”Livet på ”Holmen” då och nu samt hur fisket och konservindustrin har präglat ön.   \nStart kl.12.00 vid ingången till badplatsen\, mitt emot festivalområdet. \nAvgift 100 kr vuxen barn 7-15 år halva priset\, kontant eller Swish innan start. Ett samarrangemang mellan Bohusläns Guider\, Tjörns kommun och Studieförbundet Vuxenskolan Väst. För Info eller bokning: Malin Bergenheim\, tel 0739 574191
URL:https://moasblomstergard.se/event/sillens-dag-kladesholmen/
LOCATION:Klädesholmen\, Klädesholmen\, 471 51\, Sverige
END:VEVENT
BEGIN:VEVENT
DTSTART;TZID=UTC:20260621T120000
DTEND;TZID=UTC:20260621T130000
DTSTAMP:20260424T094358
CREATED:20240506T093400Z
LAST-MODIFIED:20260223T170123Z
UID:303-1782043200-1782046800@moasblomstergard.se
SUMMARY:Guidad vandring Skärhamn
DESCRIPTION:Följ med på en stadspromenad i fina Skärhamn. Vi vandrar mellan vita enkelhus och röda magasin och hör berättelsen om hur samhället utvecklades från strandsittarplats till sjöfartsmetropol. Idag ett sommarparadis\, men också ett högst levande kustsamhälle året runt. \nStart på torget utanför Wilmas butik på torget\, kl.12 \nVandringen avslutas en timmer senare vid kyrkan. \nBiljett 120 kr / vuxen\, barn 7-15 år halva priset. Swish eller kontant betalning. \nEtt samarrangemang mellan Bohusläns Guider och Tjörns kommun \nFör info / bokning Malin Bergenheim 0739 574191
URL:https://moasblomstergard.se/event/det-gamla-skarhamn-2/
LOCATION:Skärhamn\, Skärhamn\, 471 32\, Sverige
END:VEVENT
BEGIN:VEVENT
DTSTART;TZID=UTC:20260716T180000
DTEND;TZID=UTC:20260716T190000
DTSTAMP:20260424T094358
CREATED:20240506T093157Z
LAST-MODIFIED:20260223T170106Z
UID:300-1784224800-1784228400@moasblomstergard.se
SUMMARY:Guidad vandring Skärhamn
DESCRIPTION:Följ med på en stadspromenad i fina Skärhamn. Vi vandrar mellan vita enkelhus och röda magasin och hör berättelsen om hur samhället utvecklades från strandsittarplats till sjöfartsmetropol. Idag ett sommarparadis\, men också ett högst levande kustsamhälle året runt. \nStart på torget utanför Wilmas butik på torget\, kl.18 \nVandringen avslutas en timmer senare vid kyrkan. \nBiljett 120 kr / vuxen\, barn 7-15 år halva priset. Swish eller kontant betalning. \nEtt samarrangemang mellan Bohusläns Guider och Tjörns kommun \nFör info / bokning Malin Bergenheim 0739 574191
URL:https://moasblomstergard.se/event/det-gamla-skarhamn/
LOCATION:Skärhamn\, Skärhamn\, 471 32\, Sverige
END:VEVENT
BEGIN:VEVENT
DTSTART;TZID=UTC:20260927T120000
DTEND;TZID=UTC:20260927T130000
DTSTAMP:20260424T094358
CREATED:20240506T094516Z
LAST-MODIFIED:20260223T165956Z
UID:311-1790510400-1790514000@moasblomstergard.se
SUMMARY:Guidad vandring Rönnäng
DESCRIPTION:Berättelser om ett fiskesamhälle i förändring. Glimtar från New York\, design\, isprinsessor och Nobelpristagare. Vår guidade tur tar ca en timme. \nStart vid Bygdegården i Fiskehamnen\, Rönnäng\, kl.12.00. \nAvgift 120 kr\, barn7-15 år halv priset. Betalas vid start kontant eller Swish. \nEtt samarrangemang mellan Bohusläns Guider och Tjörns kommun. \nFör Information och bokning: Malin 0739-57419\,
URL:https://moasblomstergard.se/event/guidad-vandring-ronnang/
LOCATION:Rönnäng\, Stansviksvägen 8\, Rönnäng\, 471 41\, Sverige
END:VEVENT
BEGIN:VEVENT
DTSTART;TZID=UTC:20261128T000000
DTEND;TZID=UTC:20261128T235959
DTSTAMP:20260424T094358
CREATED:20250125T123847Z
LAST-MODIFIED:20260223T125450Z
UID:394-1795824000-1795910399@moasblomstergard.se
SUMMARY:Kransbindning och adventsfika
DESCRIPTION:Julmys med krandsbinding och adventsfika i den stora ladan på Moas Blomstergård. Mer info och anmälan hos Malin Bergenheim tel 0739 574191. Kostnad för material och fika: 450kr p.P. \nVälkomna!
URL:https://moasblomstergard.se/event/kransbindning-och-julmys/
LOCATION:Moas Blomstergård\, TOLLEBY TJÄRNVÄG 93\, Rönnäng\, Västra Götalands län\, 47197\, Sverige
ORGANIZER;CN="Moas Blomsterg%C3%A5rd":MAILTO:info@moasblomstergard.se
END:VEVENT
END:VCALENDAR